BEGIN:VCALENDAR
VERSION:2.0
PRODID:-//Connector Kim - ECPv6.15.20//NONSGML v1.0//EN
CALSCALE:GREGORIAN
METHOD:PUBLISH
X-ORIGINAL-URL:https://connectorkim.com
X-WR-CALDESC:Events for Connector Kim
REFRESH-INTERVAL;VALUE=DURATION:PT1H
X-Robots-Tag:noindex
X-PUBLISHED-TTL:PT1H
BEGIN:VTIMEZONE
TZID:America/Chicago
BEGIN:DAYLIGHT
TZOFFSETFROM:-0600
TZOFFSETTO:-0500
TZNAME:CDT
DTSTART:20240310T080000
END:DAYLIGHT
BEGIN:STANDARD
TZOFFSETFROM:-0500
TZOFFSETTO:-0600
TZNAME:CST
DTSTART:20241103T070000
END:STANDARD
BEGIN:DAYLIGHT
TZOFFSETFROM:-0600
TZOFFSETTO:-0500
TZNAME:CDT
DTSTART:20250309T080000
END:DAYLIGHT
BEGIN:STANDARD
TZOFFSETFROM:-0500
TZOFFSETTO:-0600
TZNAME:CST
DTSTART:20251102T070000
END:STANDARD
BEGIN:DAYLIGHT
TZOFFSETFROM:-0600
TZOFFSETTO:-0500
TZNAME:CDT
DTSTART:20260308T080000
END:DAYLIGHT
BEGIN:STANDARD
TZOFFSETFROM:-0500
TZOFFSETTO:-0600
TZNAME:CST
DTSTART:20261101T070000
END:STANDARD
END:VTIMEZONE
BEGIN:VEVENT
DTSTART;TZID=America/Chicago:20250508T113000
DTEND;TZID=America/Chicago:20250508T130000
DTSTAMP:20260425T085302
CREATED:20250425T232525Z
LAST-MODIFIED:20250425T232553Z
UID:667-1746703800-1746709200@connectorkim.com
SUMMARY:Professional Women of WI (PWoW) | 2nd Thurs Lunch Networking | New Berlin Ale House
DESCRIPTION:PWoW’s monthly lunch in-person networking!\nWe will meet at New Berlin Ale House from 11:30-1pm the 2nd Thursday monthly. USE THE WEST ENTRANCE \nOur goal is to offer structured meetings with a diverse group of professional women on a monthly basis. We welcome ALL women that are looking to connect with likeminded individuals who are interested in building relationships that will help them grow personally and professionally. We strongly believe in building relationships\, and truly believe that it’s not a competition but an opportunity to collaborate. \nWe are looking forward to seeing our members and honored guests. Please feel free to invite a friend who you believe will benefit from and be a contribution to this networking group. \n***This is not the only platform we are advertising this event. This is not an accurate count of attendees. *** \n#PWoW #PWoWMKE #Networking #WomenInBusiness #WomensNetworking #SmallBusiness #CollaborationNotCompetition \n👉🏼 RSVP HERE 👈🏼
URL:https://connectorkim.com/event/professional-women-of-wi-pwow-2nd-thurs-lunch-networking-new-berlin-ale-house/
LOCATION:New Berlin Ale House\, 16000 W Cleveland Ave\, New Berlin\, WI\, 53151\, United States
CATEGORIES:Luncheon,Networking,PWOW
ATTACH;FMTTYPE=image/png:https://connectorkim.com/wp-content/uploads/2025/04/New-Berlin-Ale-House.png
ORGANIZER;CN="Professional Women of WI (PWoW)":MAILTO:pwowmke@gmail.com
END:VEVENT
END:VCALENDAR